BEGIN:VCALENDAR
VERSION:2.0
PRODID:-//South Haven Memorial Library - ECPv6.15.20//NONSGML v1.0//EN
CALSCALE:GREGORIAN
METHOD:PUBLISH
X-WR-CALNAME:South Haven Memorial Library
X-ORIGINAL-URL:https://shmlibrary.org
X-WR-CALDESC:Events for South Haven Memorial Library
REFRESH-INTERVAL;VALUE=DURATION:PT1H
X-Robots-Tag:noindex
X-PUBLISHED-TTL:PT1H
BEGIN:VTIMEZONE
TZID:America/Detroit
BEGIN:DAYLIGHT
TZOFFSETFROM:-0500
TZOFFSETTO:-0400
TZNAME:EDT
DTSTART:20250309T070000
END:DAYLIGHT
BEGIN:STANDARD
TZOFFSETFROM:-0400
TZOFFSETTO:-0500
TZNAME:EST
DTSTART:20251102T060000
END:STANDARD
BEGIN:DAYLIGHT
TZOFFSETFROM:-0500
TZOFFSETTO:-0400
TZNAME:EDT
DTSTART:20260308T070000
END:DAYLIGHT
BEGIN:STANDARD
TZOFFSETFROM:-0400
TZOFFSETTO:-0500
TZNAME:EST
DTSTART:20261101T060000
END:STANDARD
BEGIN:DAYLIGHT
TZOFFSETFROM:-0500
TZOFFSETTO:-0400
TZNAME:EDT
DTSTART:20270314T070000
END:DAYLIGHT
BEGIN:STANDARD
TZOFFSETFROM:-0400
TZOFFSETTO:-0500
TZNAME:EST
DTSTART:20271107T060000
END:STANDARD
END:VTIMEZONE
BEGIN:VEVENT
DTSTART;TZID=America/Detroit:20260424T110000
DTEND;TZID=America/Detroit:20260424T120000
DTSTAMP:20260425T202704
CREATED:20260106T190217Z
LAST-MODIFIED:20260106T190218Z
UID:21781-1777028400-1777032000@shmlibrary.org
SUMMARY:Parent Cafes
DESCRIPTION:Once a month on a Friday\, local parents and caregivers are coming together to engage in conversations and good company. There are a variety of topics about self-care\, support and community resources. Join us at the South Haven Memorial Library from 11am – 12pm once a month. This is a FREE event and no registration is required but class size is limited.
URL:https://shmlibrary.org/event/parent-cafes-4/
LOCATION:South Haven Memorial Library\, 314 Broadway St.\, South Haven\, Michigan\, 49090\, United States
ATTACH;FMTTYPE=image/jpeg:https://shmlibrary.org/wp-content/uploads/parent-cafes-bigger-logos.jpg
END:VEVENT
BEGIN:VEVENT
DTSTART;TZID=America/Detroit:20260422T130000
DTEND;TZID=America/Detroit:20260422T160000
DTSTAMP:20260425T202704
CREATED:20260219T193626Z
LAST-MODIFIED:20260219T193626Z
UID:22162-1776862800-1776873600@shmlibrary.org
SUMMARY:Bridge Card Game 2026
DESCRIPTION:You are invited for a FREE fun afternoon of Bridge! This event is open to the public and beginners are welcomed. Join us at 1pm every Tuesday and Wednesday (duplicate) at the South Haven Memorial Library community room.
URL:https://shmlibrary.org/event/bridge-card-game-2026-18/
LOCATION:South Haven Memorial Library\, 314 Broadway St.\, South Haven\, Michigan\, 49090\, United States
CATEGORIES:Adult Programs
ATTACH;FMTTYPE=image/jpeg:https://shmlibrary.org/wp-content/uploads/bridge-card-game-flyer-2026.jpg
END:VEVENT
BEGIN:VEVENT
DTSTART;TZID=America/Detroit:20260422T130000
DTEND;TZID=America/Detroit:20260422T153000
DTSTAMP:20260425T202704
CREATED:20251223T191409Z
LAST-MODIFIED:20251223T191410Z
UID:21704-1776862800-1776871800@shmlibrary.org
SUMMARY:Hooked on Yarn
DESCRIPTION:This is FREE to the public. Join us at 1pm.
URL:https://shmlibrary.org/event/hooked-on-yarn-8/
LOCATION:South Haven Memorial Library\, 314 Broadway St.\, South Haven\, Michigan\, 49090\, United States
ATTACH;FMTTYPE=image/jpeg:https://shmlibrary.org/wp-content/uploads/hooked-on-yarn-jan-jun-2026-flyer.jpg
END:VEVENT
BEGIN:VEVENT
DTSTART;TZID=America/Detroit:20260421T130000
DTEND;TZID=America/Detroit:20260421T160000
DTSTAMP:20260425T202704
CREATED:20260219T193550Z
LAST-MODIFIED:20260219T193551Z
UID:22160-1776776400-1776787200@shmlibrary.org
SUMMARY:Bridge Card Game 2026
DESCRIPTION:You are invited for a FREE fun afternoon of Bridge! This event is open to the public and beginners are welcomed. Join us at 1pm every Tuesday and Wednesday (duplicate) at the South Haven Memorial Library community room.
URL:https://shmlibrary.org/event/bridge-card-game-2026-17/
LOCATION:South Haven Memorial Library\, 314 Broadway St.\, South Haven\, Michigan\, 49090\, United States
CATEGORIES:Adult Programs
ATTACH;FMTTYPE=image/jpeg:https://shmlibrary.org/wp-content/uploads/bridge-card-game-flyer-2026.jpg
END:VEVENT
BEGIN:VEVENT
DTSTART;TZID=America/Detroit:20260421T110000
DTEND;TZID=America/Detroit:20260421T120000
DTSTAMP:20260425T202704
CREATED:20251010T140707Z
LAST-MODIFIED:20251010T140707Z
UID:20708-1776769200-1776772800@shmlibrary.org
SUMMARY:Story Time Tuesdays
DESCRIPTION:
URL:https://shmlibrary.org/event/story-time-tuesdays-31/
LOCATION:South Haven Memorial Library\, 314 Broadway St.\, South Haven\, Michigan\, 49090\, United States
CATEGORIES:Children Programs
ATTACH;FMTTYPE=image/jpeg:https://shmlibrary.org/wp-content/uploads/2026-story-time-1-1.jpg
ORGANIZER;CN="South Haven Memorial Library":MAILTO:shml@shmlibrary.org
END:VEVENT
BEGIN:VEVENT
DTSTART;TZID=America/Detroit:20260420T130000
DTEND;TZID=America/Detroit:20260420T140000
DTSTAMP:20260425T202704
CREATED:20251216T183341Z
LAST-MODIFIED:20251216T183341Z
UID:21644-1776690000-1776693600@shmlibrary.org
SUMMARY:Community BINGO 2026
DESCRIPTION:Join us for a fun hour of Community BINGO! Ring in the New Year with BINGO and try your luck every Monday. January 5\, 2026\, through May 18\, 2026\, from 1pm – 2pm. Bring a prize under $5.00.
URL:https://shmlibrary.org/event/community-bingo-2026-14/
LOCATION:South Haven Memorial Library\, 314 Broadway St.\, South Haven\, Michigan\, 49090\, United States
ATTACH;FMTTYPE=image/jpeg:https://shmlibrary.org/wp-content/uploads/community-bingo-2026-flyer.jpg
ORGANIZER;CN="South Haven Memorial Library":MAILTO:shml@shmlibrary.org
END:VEVENT
BEGIN:VEVENT
DTSTART;TZID=America/Detroit:20260418T110000
DTEND;TZID=America/Detroit:20260418T120000
DTSTAMP:20260425T202704
CREATED:20251010T134503Z
LAST-MODIFIED:20260219T164604Z
UID:20657-1776510000-1776513600@shmlibrary.org
SUMMARY:STEM Saturdays
DESCRIPTION:FREE event every 3rd Saturday of each month at 11am. Engaging STEM activities include hands-on projects. These activities foster critical thinking through simple\, often household-based\, experiments in science\, technology\, engineering\, and math.
URL:https://shmlibrary.org/event/stem-saturdays-7/
LOCATION:Michigan
CATEGORIES:Children Programs
ATTACH;FMTTYPE=image/jpeg:https://shmlibrary.org/wp-content/uploads/stem-saturdays-25-26-1.jpg
END:VEVENT
BEGIN:VEVENT
DTSTART;TZID=America/Detroit:20260417T110000
DTEND;TZID=America/Detroit:20260417T120000
DTSTAMP:20260425T202704
CREATED:20251010T134001Z
LAST-MODIFIED:20251010T144106Z
UID:20643-1776423600-1776427200@shmlibrary.org
SUMMARY:Messy Play Fridays
DESCRIPTION:
URL:https://shmlibrary.org/event/messy-play-fridays-7/
LOCATION:South Haven Memorial Library\, 314 Broadway St.\, South Haven\, Michigan\, 49090\, United States
CATEGORIES:Children Programs
ATTACH;FMTTYPE=image/jpeg:https://shmlibrary.org/wp-content/uploads/messy-play-25-26.jpg
ORGANIZER;CN="South Haven Memorial Library":MAILTO:shml@shmlibrary.org
END:VEVENT
BEGIN:VEVENT
DTSTART;TZID=America/Detroit:20260414T190000
DTEND;TZID=America/Detroit:20260414T200000
DTSTAMP:20260425T202704
CREATED:20251124T180232Z
LAST-MODIFIED:20251124T180232Z
UID:21341-1776193200-1776196800@shmlibrary.org
SUMMARY:2026 Library Board Meetings
DESCRIPTION:Library Board Meeting are held the 2nd Tuesday of every month in the small meeting room. OPEN to the public.
URL:https://shmlibrary.org/event/2026-library-board-meetings-3/
LOCATION:South Haven Memorial Library\, 314 Broadway St.\, South Haven\, Michigan\, 49090\, United States
CATEGORIES:Featured Programs
ATTACH;FMTTYPE=image/jpeg:https://shmlibrary.org/wp-content/uploads/library-board-meetings-2026-flyer.jpg
ORGANIZER;CN="South Haven Memorial Library":MAILTO:shml@shmlibrary.org
END:VEVENT
BEGIN:VEVENT
DTSTART;TZID=America/Detroit:20260414T180000
DTEND;TZID=America/Detroit:20260414T190000
DTSTAMP:20260425T202704
CREATED:20251013T125023Z
LAST-MODIFIED:20251013T125024Z
UID:20795-1776189600-1776193200@shmlibrary.org
SUMMARY:South Haven Strummers
DESCRIPTION:South Haven Strummers meet the 2nd Tuesday of each month from 6pm – 7pm. Bring your ukulele and join the fun! Don’t have a ukulele? We might have extras\, first come\, first serve. FREE event for all ages.
URL:https://shmlibrary.org/event/south-haven-strummers-8/
LOCATION:South Haven Memorial Library\, 314 Broadway St.\, South Haven\, Michigan\, 49090\, United States
CATEGORIES:All Ages
ATTACH;FMTTYPE=image/jpeg:https://shmlibrary.org/wp-content/uploads/sh-strummers-jan-jun-2026-dates-revised-2.jpg
END:VEVENT
BEGIN:VEVENT
DTSTART;TZID=America/Detroit:20260414T110000
DTEND;TZID=America/Detroit:20260414T120000
DTSTAMP:20260425T202704
CREATED:20251010T140636Z
LAST-MODIFIED:20251010T140637Z
UID:20706-1776164400-1776168000@shmlibrary.org
SUMMARY:Story Time Tuesdays
DESCRIPTION:
URL:https://shmlibrary.org/event/story-time-tuesdays-30/
LOCATION:South Haven Memorial Library\, 314 Broadway St.\, South Haven\, Michigan\, 49090\, United States
CATEGORIES:Children Programs
ATTACH;FMTTYPE=image/jpeg:https://shmlibrary.org/wp-content/uploads/2026-story-time-1-1.jpg
ORGANIZER;CN="South Haven Memorial Library":MAILTO:shml@shmlibrary.org
END:VEVENT
BEGIN:VEVENT
DTSTART;TZID=America/Detroit:20260413T130000
DTEND;TZID=America/Detroit:20260413T140000
DTSTAMP:20260425T202704
CREATED:20251216T183300Z
LAST-MODIFIED:20251216T183300Z
UID:21642-1776085200-1776088800@shmlibrary.org
SUMMARY:Community BINGO 2026
DESCRIPTION:Join us for a fun hour of Community BINGO! Ring in the New Year with BINGO and try your luck every Monday. January 5\, 2026\, through May 18\, 2026\, from 1pm – 2pm. Bring a prize under $5.00.
URL:https://shmlibrary.org/event/community-bingo-2026-13/
LOCATION:South Haven Memorial Library\, 314 Broadway St.\, South Haven\, Michigan\, 49090\, United States
ATTACH;FMTTYPE=image/jpeg:https://shmlibrary.org/wp-content/uploads/community-bingo-2026-flyer.jpg
ORGANIZER;CN="South Haven Memorial Library":MAILTO:shml@shmlibrary.org
END:VEVENT
BEGIN:VEVENT
DTSTART;TZID=America/Detroit:20260408T130000
DTEND;TZID=America/Detroit:20260408T153000
DTSTAMP:20260425T202704
CREATED:20251223T191336Z
LAST-MODIFIED:20251223T191336Z
UID:21702-1775653200-1775662200@shmlibrary.org
SUMMARY:Hooked on Yarn
DESCRIPTION:This is FREE to the public. Join us at 1pm.
URL:https://shmlibrary.org/event/hooked-on-yarn-7/
LOCATION:South Haven Memorial Library\, 314 Broadway St.\, South Haven\, Michigan\, 49090\, United States
ATTACH;FMTTYPE=image/jpeg:https://shmlibrary.org/wp-content/uploads/hooked-on-yarn-jan-jun-2026-flyer.jpg
END:VEVENT
BEGIN:VEVENT
DTSTART;TZID=America/Detroit:20260407T110000
DTEND;TZID=America/Detroit:20260407T120000
DTSTAMP:20260425T202704
CREATED:20251010T140609Z
LAST-MODIFIED:20251010T140609Z
UID:20704-1775559600-1775563200@shmlibrary.org
SUMMARY:Story Time Tuesdays
DESCRIPTION:
URL:https://shmlibrary.org/event/story-time-tuesdays-29/
LOCATION:South Haven Memorial Library\, 314 Broadway St.\, South Haven\, Michigan\, 49090\, United States
CATEGORIES:Children Programs
ATTACH;FMTTYPE=image/jpeg:https://shmlibrary.org/wp-content/uploads/2026-story-time-1-1.jpg
ORGANIZER;CN="South Haven Memorial Library":MAILTO:shml@shmlibrary.org
END:VEVENT
BEGIN:VEVENT
DTSTART;TZID=America/Detroit:20260406T130000
DTEND;TZID=America/Detroit:20260406T140000
DTSTAMP:20260425T202704
CREATED:20251216T183219Z
LAST-MODIFIED:20251216T183220Z
UID:21640-1775480400-1775484000@shmlibrary.org
SUMMARY:Community BINGO 2026
DESCRIPTION:Join us for a fun hour of Community BINGO! Ring in the New Year with BINGO and try your luck every Monday. January 5\, 2026\, through May 18\, 2026\, from 1pm – 2pm. Bring a prize under $5.00.
URL:https://shmlibrary.org/event/community-bingo-2026-12/
LOCATION:South Haven Memorial Library\, 314 Broadway St.\, South Haven\, Michigan\, 49090\, United States
ATTACH;FMTTYPE=image/jpeg:https://shmlibrary.org/wp-content/uploads/community-bingo-2026-flyer.jpg
ORGANIZER;CN="South Haven Memorial Library":MAILTO:shml@shmlibrary.org
END:VEVENT
BEGIN:VEVENT
DTSTART;TZID=America/Detroit:20260403T110000
DTEND;TZID=America/Detroit:20260403T120000
DTSTAMP:20260425T202704
CREATED:20251010T141500Z
LAST-MODIFIED:20251010T141501Z
UID:20730-1775214000-1775217600@shmlibrary.org
SUMMARY:Play-Doh Play Date
DESCRIPTION:
URL:https://shmlibrary.org/event/play-doh-play-date-8/
LOCATION:Michigan
CATEGORIES:Children Programs
ATTACH;FMTTYPE=image/jpeg:https://shmlibrary.org/wp-content/uploads/playdoh-play-date-25-26.jpg
END:VEVENT
BEGIN:VEVENT
DTSTART;TZID=America/Detroit:20260331T110000
DTEND;TZID=America/Detroit:20260331T120000
DTSTAMP:20260425T202704
CREATED:20251010T140534Z
LAST-MODIFIED:20251010T140535Z
UID:20702-1774954800-1774958400@shmlibrary.org
SUMMARY:Story Time Tuesdays
DESCRIPTION:
URL:https://shmlibrary.org/event/story-time-tuesdays-28/
LOCATION:South Haven Memorial Library\, 314 Broadway St.\, South Haven\, Michigan\, 49090\, United States
CATEGORIES:Children Programs
ATTACH;FMTTYPE=image/jpeg:https://shmlibrary.org/wp-content/uploads/2026-story-time-1-1.jpg
ORGANIZER;CN="South Haven Memorial Library":MAILTO:shml@shmlibrary.org
END:VEVENT
BEGIN:VEVENT
DTSTART;TZID=America/Detroit:20260330T130000
DTEND;TZID=America/Detroit:20260330T140000
DTSTAMP:20260425T202704
CREATED:20251216T183140Z
LAST-MODIFIED:20251216T183141Z
UID:21638-1774875600-1774879200@shmlibrary.org
SUMMARY:Community BINGO 2026
DESCRIPTION:Join us for a fun hour of Community BINGO! Ring in the New Year with BINGO and try your luck every Monday. January 5\, 2026\, through May 18\, 2026\, from 1pm – 2pm. Bring a prize under $5.00.
URL:https://shmlibrary.org/event/community-bingo-2026-11/
LOCATION:South Haven Memorial Library\, 314 Broadway St.\, South Haven\, Michigan\, 49090\, United States
ATTACH;FMTTYPE=image/jpeg:https://shmlibrary.org/wp-content/uploads/community-bingo-2026-flyer.jpg
ORGANIZER;CN="South Haven Memorial Library":MAILTO:shml@shmlibrary.org
END:VEVENT
BEGIN:VEVENT
DTSTART;TZID=America/Detroit:20260327T110000
DTEND;TZID=America/Detroit:20260327T120000
DTSTAMP:20260425T202704
CREATED:20260106T190112Z
LAST-MODIFIED:20260106T190113Z
UID:21779-1774609200-1774612800@shmlibrary.org
SUMMARY:Parent Cafes
DESCRIPTION:Once a month on a Friday\, local parents and caregivers are coming together to engage in conversations and good company. There are a variety of topics about self-care\, support and community resources. Join us at the South Haven Memorial Library from 11am – 12pm once a month. This is a FREE event and no registration is required but class size is limited.
URL:https://shmlibrary.org/event/parent-cafes-3/
LOCATION:South Haven Memorial Library\, 314 Broadway St.\, South Haven\, Michigan\, 49090\, United States
ATTACH;FMTTYPE=image/jpeg:https://shmlibrary.org/wp-content/uploads/parent-cafes-bigger-logos.jpg
END:VEVENT
BEGIN:VEVENT
DTSTART;TZID=America/Detroit:20260325T140000
DTEND;TZID=America/Detroit:20260325T150000
DTSTAMP:20260425T202704
CREATED:20251124T183052Z
LAST-MODIFIED:20251124T183345Z
UID:21359-1774447200-1774450800@shmlibrary.org
SUMMARY:2026 Friends of SHML Meetings
DESCRIPTION:The Friends of the South Haven Memorial Library (SHML) is an independent\, nonprofit organization dedicated to promoting the library as an essential institution in our community. It is a group of volunteers that provide financial support to the library and promote interest in programs and materials that are interesting and useful to all library patrons and the South Haven community.  \n\n\n\nMeeting are held in the community room and open to the public. \n\n\n\nIf you would like to become a member of the Friends of the Library\, please contact Paul Buchbinder or you can fill out a membership application. Click here for a Friends membership application.
URL:https://shmlibrary.org/event/2026-friends-of-shml-meetings/
LOCATION:South Haven Memorial Library\, 314 Broadway St.\, South Haven\, Michigan\, 49090\, United States
CATEGORIES:Featured Programs
ATTACH;FMTTYPE=image/jpeg:https://shmlibrary.org/wp-content/uploads/friends-meetings-for-2026-flyer.jpg
ORGANIZER;CN="Paul Buchbinder":MAILTO:pbptvmedia@gmail.com
END:VEVENT
BEGIN:VEVENT
DTSTART;TZID=America/Detroit:20260324T110000
DTEND;TZID=America/Detroit:20260324T120000
DTSTAMP:20260425T202704
CREATED:20251010T140502Z
LAST-MODIFIED:20251010T140502Z
UID:20700-1774350000-1774353600@shmlibrary.org
SUMMARY:Story Time Tuesdays
DESCRIPTION:
URL:https://shmlibrary.org/event/story-time-tuesdays-27/
LOCATION:South Haven Memorial Library\, 314 Broadway St.\, South Haven\, Michigan\, 49090\, United States
CATEGORIES:Children Programs
ATTACH;FMTTYPE=image/jpeg:https://shmlibrary.org/wp-content/uploads/2026-story-time-1-1.jpg
ORGANIZER;CN="South Haven Memorial Library":MAILTO:shml@shmlibrary.org
END:VEVENT
BEGIN:VEVENT
DTSTART;TZID=America/Detroit:20260323T130000
DTEND;TZID=America/Detroit:20260323T140000
DTSTAMP:20260425T202704
CREATED:20251216T183050Z
LAST-MODIFIED:20251216T183050Z
UID:21636-1774270800-1774274400@shmlibrary.org
SUMMARY:Community BINGO 2026
DESCRIPTION:Join us for a fun hour of Community BINGO! Ring in the New Year with BINGO and try your luck every Monday. January 5\, 2026\, through May 18\, 2026\, from 1pm – 2pm. Bring a prize under $5.00.
URL:https://shmlibrary.org/event/community-bingo-2026-10/
LOCATION:South Haven Memorial Library\, 314 Broadway St.\, South Haven\, Michigan\, 49090\, United States
ATTACH;FMTTYPE=image/jpeg:https://shmlibrary.org/wp-content/uploads/community-bingo-2026-flyer.jpg
ORGANIZER;CN="South Haven Memorial Library":MAILTO:shml@shmlibrary.org
END:VEVENT
BEGIN:VEVENT
DTSTART;TZID=America/Detroit:20260321T110000
DTEND;TZID=America/Detroit:20260321T120000
DTSTAMP:20260425T202704
CREATED:20251010T134420Z
LAST-MODIFIED:20260219T164529Z
UID:20655-1774090800-1774094400@shmlibrary.org
SUMMARY:STEM Saturdays
DESCRIPTION:FREE event every 3rd Saturday of each month at 11am. Engaging STEM activities include hands-on projects. These activities foster critical thinking through simple\, often household-based\, experiments in science\, technology\, engineering\, and math.
URL:https://shmlibrary.org/event/stem-saturdays-6/
LOCATION:Michigan
CATEGORIES:Children Programs
ATTACH;FMTTYPE=image/jpeg:https://shmlibrary.org/wp-content/uploads/stem-saturdays-25-26-1.jpg
END:VEVENT
BEGIN:VEVENT
DTSTART;TZID=America/Detroit:20260320T110000
DTEND;TZID=America/Detroit:20260320T120000
DTSTAMP:20260425T202704
CREATED:20251010T133919Z
LAST-MODIFIED:20251010T144059Z
UID:20641-1774004400-1774008000@shmlibrary.org
SUMMARY:Messy Play Fridays
DESCRIPTION:
URL:https://shmlibrary.org/event/messy-play-fridays-6/
LOCATION:South Haven Memorial Library\, 314 Broadway St.\, South Haven\, Michigan\, 49090\, United States
CATEGORIES:Children Programs
ATTACH;FMTTYPE=image/jpeg:https://shmlibrary.org/wp-content/uploads/messy-play-25-26.jpg
ORGANIZER;CN="South Haven Memorial Library":MAILTO:shml@shmlibrary.org
END:VEVENT
BEGIN:VEVENT
DTSTART;TZID=America/Detroit:20260319T160000
DTEND;TZID=America/Detroit:20260319T170000
DTSTAMP:20260425T202704
CREATED:20260204T154320Z
LAST-MODIFIED:20260204T154514Z
UID:21979-1773936000-1773939600@shmlibrary.org
SUMMARY:DIY Homemade Sugar Scrub
DESCRIPTION:Tired of dry skin? Ready for Spring? We have a fun evening planned for you! Our goal is to make you to feel better. Join us for a “Do It Yourself” homemade sugar scrub. The library will provide the supplies and all you have to do is come to the event. This event is FREE (while supplies last).
URL:https://shmlibrary.org/event/diy-homemade-sugar-scrub/
LOCATION:South Haven Memorial Library\, 314 Broadway St.\, South Haven\, Michigan\, 49090\, United States
ATTACH;FMTTYPE=image/jpeg:https://shmlibrary.org/wp-content/uploads/diy-homemade-sugar-scrub-3-19-2026.jpg
ORGANIZER;CN="South Haven Memorial Library":MAILTO:shml@shmlibrary.org
END:VEVENT
BEGIN:VEVENT
DTSTART;TZID=America/Detroit:20260318T130000
DTEND;TZID=America/Detroit:20260318T153000
DTSTAMP:20260425T202704
CREATED:20251223T191259Z
LAST-MODIFIED:20251223T191300Z
UID:21700-1773838800-1773847800@shmlibrary.org
SUMMARY:Hooked on Yarn
DESCRIPTION:This is FREE to the public. Join us at 1pm.
URL:https://shmlibrary.org/event/hooked-on-yarn-6/
LOCATION:South Haven Memorial Library\, 314 Broadway St.\, South Haven\, Michigan\, 49090\, United States
ATTACH;FMTTYPE=image/jpeg:https://shmlibrary.org/wp-content/uploads/hooked-on-yarn-jan-jun-2026-flyer.jpg
END:VEVENT
BEGIN:VEVENT
DTSTART;TZID=America/Detroit:20260317T110000
DTEND;TZID=America/Detroit:20260317T120000
DTSTAMP:20260425T202704
CREATED:20251010T140356Z
LAST-MODIFIED:20260317T140357Z
UID:20698-1773745200-1773748800@shmlibrary.org
SUMMARY:Story Time Tuesdays - CANCELLED 3/17/2026
DESCRIPTION:CANCELLED due to weather.
URL:https://shmlibrary.org/event/story-time-tuesdays-26/
LOCATION:South Haven Memorial Library\, 314 Broadway St.\, South Haven\, Michigan\, 49090\, United States
CATEGORIES:Children Programs
ATTACH;FMTTYPE=image/jpeg:https://shmlibrary.org/wp-content/uploads/cancelled-3-17-2026.jpg
ORGANIZER;CN="South Haven Memorial Library":MAILTO:shml@shmlibrary.org
END:VEVENT
BEGIN:VEVENT
DTSTART;TZID=America/Detroit:20260316T130000
DTEND;TZID=America/Detroit:20260316T140000
DTSTAMP:20260425T202704
CREATED:20251216T183009Z
LAST-MODIFIED:20251216T183009Z
UID:21634-1773666000-1773669600@shmlibrary.org
SUMMARY:Community BINGO 2026
DESCRIPTION:Join us for a fun hour of Community BINGO! Ring in the New Year with BINGO and try your luck every Monday. January 5\, 2026\, through May 18\, 2026\, from 1pm – 2pm. Bring a prize under $5.00.
URL:https://shmlibrary.org/event/community-bingo-2026-9/
LOCATION:South Haven Memorial Library\, 314 Broadway St.\, South Haven\, Michigan\, 49090\, United States
ATTACH;FMTTYPE=image/jpeg:https://shmlibrary.org/wp-content/uploads/community-bingo-2026-flyer.jpg
ORGANIZER;CN="South Haven Memorial Library":MAILTO:shml@shmlibrary.org
END:VEVENT
BEGIN:VEVENT
DTSTART;TZID=America/Detroit:20260311T130000
DTEND;TZID=America/Detroit:20260311T153000
DTSTAMP:20260425T202704
CREATED:20251223T191219Z
LAST-MODIFIED:20251223T191220Z
UID:21698-1773234000-1773243000@shmlibrary.org
SUMMARY:Hooked on Yarn
DESCRIPTION:This is FREE to the public. Join us at 1pm.
URL:https://shmlibrary.org/event/hooked-on-yarn-5/
LOCATION:South Haven Memorial Library\, 314 Broadway St.\, South Haven\, Michigan\, 49090\, United States
ATTACH;FMTTYPE=image/jpeg:https://shmlibrary.org/wp-content/uploads/hooked-on-yarn-jan-jun-2026-flyer.jpg
END:VEVENT
BEGIN:VEVENT
DTSTART;TZID=America/Detroit:20260310T190000
DTEND;TZID=America/Detroit:20260310T200000
DTSTAMP:20260425T202704
CREATED:20251124T180004Z
LAST-MODIFIED:20251124T180004Z
UID:21339-1773169200-1773172800@shmlibrary.org
SUMMARY:2026 Library Board Meetings
DESCRIPTION:Library Board Meeting are held the 2nd Tuesday of every month in the small meeting room. OPEN to the public.
URL:https://shmlibrary.org/event/2026-library-board-meetings-2/
LOCATION:South Haven Memorial Library\, 314 Broadway St.\, South Haven\, Michigan\, 49090\, United States
CATEGORIES:Featured Programs
ATTACH;FMTTYPE=image/jpeg:https://shmlibrary.org/wp-content/uploads/library-board-meetings-2026-flyer.jpg
ORGANIZER;CN="South Haven Memorial Library":MAILTO:shml@shmlibrary.org
END:VEVENT
END:VCALENDAR