BEGIN:VCALENDAR
VERSION:2.0
PRODID:-//South Haven Memorial Library - ECPv6.15.20//NONSGML v1.0//EN
CALSCALE:GREGORIAN
METHOD:PUBLISH
X-WR-CALNAME:South Haven Memorial Library
X-ORIGINAL-URL:https://shmlibrary.org
X-WR-CALDESC:Events for South Haven Memorial Library
REFRESH-INTERVAL;VALUE=DURATION:PT1H
X-Robots-Tag:noindex
X-PUBLISHED-TTL:PT1H
BEGIN:VTIMEZONE
TZID:America/Detroit
BEGIN:DAYLIGHT
TZOFFSETFROM:-0500
TZOFFSETTO:-0400
TZNAME:EDT
DTSTART:20250309T070000
END:DAYLIGHT
BEGIN:STANDARD
TZOFFSETFROM:-0400
TZOFFSETTO:-0500
TZNAME:EST
DTSTART:20251102T060000
END:STANDARD
BEGIN:DAYLIGHT
TZOFFSETFROM:-0500
TZOFFSETTO:-0400
TZNAME:EDT
DTSTART:20260308T070000
END:DAYLIGHT
BEGIN:STANDARD
TZOFFSETFROM:-0400
TZOFFSETTO:-0500
TZNAME:EST
DTSTART:20261101T060000
END:STANDARD
BEGIN:DAYLIGHT
TZOFFSETFROM:-0500
TZOFFSETTO:-0400
TZNAME:EDT
DTSTART:20270314T070000
END:DAYLIGHT
BEGIN:STANDARD
TZOFFSETFROM:-0400
TZOFFSETTO:-0500
TZNAME:EST
DTSTART:20271107T060000
END:STANDARD
END:VTIMEZONE
BEGIN:VEVENT
DTSTART;TZID=America/Detroit:20260427T130000
DTEND;TZID=America/Detroit:20260427T140000
DTSTAMP:20260425T190231
CREATED:20251216T183422Z
LAST-MODIFIED:20251216T183423Z
UID:21646-1777294800-1777298400@shmlibrary.org
SUMMARY:Community BINGO 2026
DESCRIPTION:Join us for a fun hour of Community BINGO! Ring in the New Year with BINGO and try your luck every Monday. January 5\, 2026\, through May 18\, 2026\, from 1pm – 2pm. Bring a prize under $5.00.
URL:https://shmlibrary.org/event/community-bingo-2026-15/
LOCATION:South Haven Memorial Library\, 314 Broadway St.\, South Haven\, Michigan\, 49090\, United States
ATTACH;FMTTYPE=image/jpeg:https://shmlibrary.org/wp-content/uploads/community-bingo-2026-flyer.jpg
ORGANIZER;CN="South Haven Memorial Library":MAILTO:shml@shmlibrary.org
END:VEVENT
BEGIN:VEVENT
DTSTART;TZID=America/Detroit:20260428T110000
DTEND;TZID=America/Detroit:20260428T120000
DTSTAMP:20260425T190231
CREATED:20251010T140758Z
LAST-MODIFIED:20251010T140758Z
UID:20710-1777374000-1777377600@shmlibrary.org
SUMMARY:Story Time Tuesdays
DESCRIPTION:
URL:https://shmlibrary.org/event/story-time-tuesdays-32/
LOCATION:South Haven Memorial Library\, 314 Broadway St.\, South Haven\, Michigan\, 49090\, United States
CATEGORIES:Children Programs
ATTACH;FMTTYPE=image/jpeg:https://shmlibrary.org/wp-content/uploads/2026-story-time-1-1.jpg
ORGANIZER;CN="South Haven Memorial Library":MAILTO:shml@shmlibrary.org
END:VEVENT
BEGIN:VEVENT
DTSTART;TZID=America/Detroit:20260428T130000
DTEND;TZID=America/Detroit:20260428T160000
DTSTAMP:20260425T190231
CREATED:20260219T193705Z
LAST-MODIFIED:20260219T193705Z
UID:22164-1777381200-1777392000@shmlibrary.org
SUMMARY:Bridge Card Game 2026
DESCRIPTION:You are invited for a FREE fun afternoon of Bridge! This event is open to the public and beginners are welcomed. Join us at 1pm every Tuesday and Wednesday (duplicate) at the South Haven Memorial Library community room.
URL:https://shmlibrary.org/event/bridge-card-game-2026-19/
LOCATION:South Haven Memorial Library\, 314 Broadway St.\, South Haven\, Michigan\, 49090\, United States
CATEGORIES:Adult Programs
ATTACH;FMTTYPE=image/jpeg:https://shmlibrary.org/wp-content/uploads/bridge-card-game-flyer-2026.jpg
END:VEVENT
BEGIN:VEVENT
DTSTART;TZID=America/Detroit:20260429T130000
DTEND;TZID=America/Detroit:20260429T160000
DTSTAMP:20260425T190231
CREATED:20260219T193740Z
LAST-MODIFIED:20260219T193741Z
UID:22166-1777467600-1777478400@shmlibrary.org
SUMMARY:Bridge Card Game 2026
DESCRIPTION:You are invited for a FREE fun afternoon of Bridge! This event is open to the public and beginners are welcomed. Join us at 1pm every Tuesday and Wednesday (duplicate) at the South Haven Memorial Library community room.
URL:https://shmlibrary.org/event/bridge-card-game-2026-20/
LOCATION:South Haven Memorial Library\, 314 Broadway St.\, South Haven\, Michigan\, 49090\, United States
CATEGORIES:Adult Programs
ATTACH;FMTTYPE=image/jpeg:https://shmlibrary.org/wp-content/uploads/bridge-card-game-flyer-2026.jpg
END:VEVENT
BEGIN:VEVENT
DTSTART;TZID=America/Detroit:20260429T180000
DTEND;TZID=America/Detroit:20260429T193000
DTSTAMP:20260425T190231
CREATED:20260402T165927Z
LAST-MODIFIED:20260402T165928Z
UID:22534-1777485600-1777491000@shmlibrary.org
SUMMARY:Kate Hinote Trio
DESCRIPTION:FREE concert at the South Haven Memorial Library on Wednesday\, April 29th at 6:00 p.m. as part of the Kate Hinote Trio’s “Libraries As Listening Rooms” tour. The Kate Hinote Trio is a contemporary folk ensemble rooted in storytelling\, rich melodies\, and an unmistakable chemistry between its members. Led by vocalist and songwriter Kate Hinote\, the trio features guitarist David Johnson (her longtime bandmate from The Blueflowers) and violinist Matthew Parmenter (of art-rock band Discipline). Together\, they create an acoustic sound that is both finely crafted and refreshingly human — where the lines between folk\, chamber pop\, and indie songcraft gently blur.
URL:https://shmlibrary.org/event/kate-hinote-trio/
LOCATION:South Haven Memorial Library\, 314 Broadway St.\, South Haven\, Michigan\, 49090\, United States
ATTACH;FMTTYPE=image/jpeg:https://shmlibrary.org/wp-content/uploads/south-haven-library-4-29-2026-card-square-4-29-2026.jpg
ORGANIZER;CN="South Haven Memorial Library":MAILTO:shml@shmlibrary.org
END:VEVENT
BEGIN:VEVENT
DTSTART;TZID=America/Detroit:20260501T110000
DTEND;TZID=America/Detroit:20260501T120000
DTSTAMP:20260425T190231
CREATED:20251010T141558Z
LAST-MODIFIED:20251010T141559Z
UID:20732-1777633200-1777636800@shmlibrary.org
SUMMARY:Play-Doh Play Date
DESCRIPTION:
URL:https://shmlibrary.org/event/play-doh-play-date-9/
LOCATION:Michigan
CATEGORIES:Children Programs
ATTACH;FMTTYPE=image/jpeg:https://shmlibrary.org/wp-content/uploads/playdoh-play-date-25-26.jpg
END:VEVENT
BEGIN:VEVENT
DTSTART;TZID=America/Detroit:20260502T103000
DTEND;TZID=America/Detroit:20260502T120000
DTSTAMP:20260425T190231
CREATED:20260422T152736Z
LAST-MODIFIED:20260422T152737Z
UID:22661-1777717800-1777723200@shmlibrary.org
SUMMARY:Mother's Day Flower Pot Decorating
DESCRIPTION:
URL:https://shmlibrary.org/event/mothers-day-flower-pot-decorating/
LOCATION:South Haven Memorial Library\, 314 Broadway St.\, South Haven\, Michigan\, 49090\, United States
END:VEVENT
BEGIN:VEVENT
DTSTART;TZID=America/Detroit:20260504T130000
DTEND;TZID=America/Detroit:20260504T140000
DTSTAMP:20260425T190231
CREATED:20251216T183459Z
LAST-MODIFIED:20251216T183459Z
UID:21648-1777899600-1777903200@shmlibrary.org
SUMMARY:Community BINGO 2026
DESCRIPTION:Join us for a fun hour of Community BINGO! Ring in the New Year with BINGO and try your luck every Monday. January 5\, 2026\, through May 18\, 2026\, from 1pm – 2pm. Bring a prize under $5.00.
URL:https://shmlibrary.org/event/community-bingo-2026-16/
LOCATION:South Haven Memorial Library\, 314 Broadway St.\, South Haven\, Michigan\, 49090\, United States
ATTACH;FMTTYPE=image/jpeg:https://shmlibrary.org/wp-content/uploads/community-bingo-2026-flyer.jpg
ORGANIZER;CN="South Haven Memorial Library":MAILTO:shml@shmlibrary.org
END:VEVENT
BEGIN:VEVENT
DTSTART;TZID=America/Detroit:20260505T110000
DTEND;TZID=America/Detroit:20260505T120000
DTSTAMP:20260425T190231
CREATED:20251010T140832Z
LAST-MODIFIED:20251010T140832Z
UID:20712-1777978800-1777982400@shmlibrary.org
SUMMARY:Story Time Tuesdays
DESCRIPTION:
URL:https://shmlibrary.org/event/story-time-tuesdays-33/
LOCATION:South Haven Memorial Library\, 314 Broadway St.\, South Haven\, Michigan\, 49090\, United States
CATEGORIES:Children Programs
ATTACH;FMTTYPE=image/jpeg:https://shmlibrary.org/wp-content/uploads/2026-story-time-1-1.jpg
ORGANIZER;CN="South Haven Memorial Library":MAILTO:shml@shmlibrary.org
END:VEVENT
BEGIN:VEVENT
DTSTART;TZID=America/Detroit:20260505T130000
DTEND;TZID=America/Detroit:20260505T160000
DTSTAMP:20260425T190231
CREATED:20260420T154448Z
LAST-MODIFIED:20260420T155803Z
UID:22622-1777986000-1777996800@shmlibrary.org
SUMMARY:Bridge Card Game 2026
DESCRIPTION:You are invited for a FREE fun afternoon of Bridge! This event is open to the public and beginners are welcomed. Join us at 1pm every Tuesday and Wednesday (duplicate) at the South Haven Memorial Library community room.
URL:https://shmlibrary.org/event/bridge-card-game-2026/
LOCATION:South Haven Memorial Library\, 314 Broadway St.\, South Haven\, Michigan\, 49090\, United States
CATEGORIES:Adult Programs
ATTACH;FMTTYPE=image/jpeg:https://shmlibrary.org/wp-content/uploads/bridge-card-game-flyer-2026.jpg
END:VEVENT
BEGIN:VEVENT
DTSTART;TZID=America/Detroit:20260505T180000
DTEND;TZID=America/Detroit:20260505T190000
DTSTAMP:20260425T190231
CREATED:20251013T125123Z
LAST-MODIFIED:20251013T125123Z
UID:20797-1778004000-1778007600@shmlibrary.org
SUMMARY:South Haven Strummers
DESCRIPTION:NOTE: **Not on 2nd Tuesday of the month**special date** \n\n\n\nSouth Haven Strummers meet the 2nd Tuesday of each month from 6pm – 7pm. Bring your ukulele and join the fun! Don’t have a ukulele? We might have extras\, first come\, first serve. FREE event for all ages.
URL:https://shmlibrary.org/event/south-haven-strummers-9/
LOCATION:South Haven Memorial Library\, 314 Broadway St.\, South Haven\, Michigan\, 49090\, United States
CATEGORIES:All Ages
ATTACH;FMTTYPE=image/jpeg:https://shmlibrary.org/wp-content/uploads/sh-strummers-jan-jun-2026-dates-revised-2.jpg
END:VEVENT
BEGIN:VEVENT
DTSTART;TZID=America/Detroit:20260506T130000
DTEND;TZID=America/Detroit:20260506T160000
DTSTAMP:20260425T190231
CREATED:20260420T154511Z
LAST-MODIFIED:20260420T155727Z
UID:22623-1778072400-1778083200@shmlibrary.org
SUMMARY:Bridge Card Game 2026
DESCRIPTION:You are invited for a FREE fun afternoon of Bridge! This event is open to the public and beginners are welcomed. Join us at 1pm every Tuesday and Wednesday (duplicate) at the South Haven Memorial Library community room.
URL:https://shmlibrary.org/event/bridge-card-game-2026-2/
LOCATION:South Haven Memorial Library\, 314 Broadway St.\, South Haven\, Michigan\, 49090\, United States
CATEGORIES:Adult Programs
ATTACH;FMTTYPE=image/jpeg:https://shmlibrary.org/wp-content/uploads/bridge-card-game-flyer-2026.jpg
END:VEVENT
BEGIN:VEVENT
DTSTART;TZID=America/Detroit:20260508T110000
DTEND;TZID=America/Detroit:20260508T120000
DTSTAMP:20260425T190231
CREATED:20251009T194227Z
LAST-MODIFIED:20251009T194227Z
UID:20609-1778238000-1778241600@shmlibrary.org
SUMMARY:ART Play Day with SHCA
DESCRIPTION:
URL:https://shmlibrary.org/event/art-play-day-with-shca-8/
LOCATION:South Haven Memorial Library\, 314 Broadway St.\, South Haven\, Michigan\, 49090\, United States
CATEGORIES:Children Programs
ATTACH;FMTTYPE=image/jpeg:https://shmlibrary.org/wp-content/uploads/artplaydayshca.jpg
ORGANIZER;CN="South Haven Memorial Library":MAILTO:shml@shmlibrary.org
END:VEVENT
BEGIN:VEVENT
DTSTART;TZID=America/Detroit:20260511T130000
DTEND;TZID=America/Detroit:20260511T140000
DTSTAMP:20260425T190231
CREATED:20251216T183539Z
LAST-MODIFIED:20251216T183540Z
UID:21650-1778504400-1778508000@shmlibrary.org
SUMMARY:Community BINGO 2026
DESCRIPTION:Join us for a fun hour of Community BINGO! Ring in the New Year with BINGO and try your luck every Monday. January 5\, 2026\, through May 18\, 2026\, from 1pm – 2pm. Bring a prize under $5.00.
URL:https://shmlibrary.org/event/community-bingo-2026-17/
LOCATION:South Haven Memorial Library\, 314 Broadway St.\, South Haven\, Michigan\, 49090\, United States
ATTACH;FMTTYPE=image/jpeg:https://shmlibrary.org/wp-content/uploads/community-bingo-2026-flyer.jpg
ORGANIZER;CN="South Haven Memorial Library":MAILTO:shml@shmlibrary.org
END:VEVENT
BEGIN:VEVENT
DTSTART;TZID=America/Detroit:20260512T110000
DTEND;TZID=America/Detroit:20260512T120000
DTSTAMP:20260425T190231
CREATED:20251010T140909Z
LAST-MODIFIED:20251010T140909Z
UID:20714-1778583600-1778587200@shmlibrary.org
SUMMARY:Story Time Tuesdays
DESCRIPTION:
URL:https://shmlibrary.org/event/story-time-tuesdays-34/
LOCATION:South Haven Memorial Library\, 314 Broadway St.\, South Haven\, Michigan\, 49090\, United States
CATEGORIES:Children Programs
ATTACH;FMTTYPE=image/jpeg:https://shmlibrary.org/wp-content/uploads/2026-story-time-1-1.jpg
ORGANIZER;CN="South Haven Memorial Library":MAILTO:shml@shmlibrary.org
END:VEVENT
BEGIN:VEVENT
DTSTART;TZID=America/Detroit:20260512T130000
DTEND;TZID=America/Detroit:20260512T160000
DTSTAMP:20260425T190231
CREATED:20260420T154617Z
LAST-MODIFIED:20260420T154617Z
UID:22626-1778590800-1778601600@shmlibrary.org
SUMMARY:Bridge Card Game 2026
DESCRIPTION:You are invited for a FREE fun afternoon of Bridge! This event is open to the public and beginners are welcomed. Join us at 1pm every Tuesday and Wednesday (duplicate) at the South Haven Memorial Library community room.
URL:https://shmlibrary.org/event/bridge-card-game-2026-3/
LOCATION:South Haven Memorial Library\, 314 Broadway St.\, South Haven\, Michigan\, 49090\, United States
CATEGORIES:Adult Programs
ATTACH;FMTTYPE=image/jpeg:https://shmlibrary.org/wp-content/uploads/bridge-card-game-flyer-2026.jpg
END:VEVENT
BEGIN:VEVENT
DTSTART;TZID=America/Detroit:20260512T190000
DTEND;TZID=America/Detroit:20260512T200000
DTSTAMP:20260425T190231
CREATED:20251124T180359Z
LAST-MODIFIED:20251124T180359Z
UID:21343-1778612400-1778616000@shmlibrary.org
SUMMARY:2026 Library Board Meetings
DESCRIPTION:Library Board Meeting are held the 2nd Tuesday of every month in the small meeting room. OPEN to the public.
URL:https://shmlibrary.org/event/2026-library-board-meetings-4/
LOCATION:South Haven Memorial Library\, 314 Broadway St.\, South Haven\, Michigan\, 49090\, United States
CATEGORIES:Featured Programs
ATTACH;FMTTYPE=image/jpeg:https://shmlibrary.org/wp-content/uploads/library-board-meetings-2026-flyer.jpg
ORGANIZER;CN="South Haven Memorial Library":MAILTO:shml@shmlibrary.org
END:VEVENT
BEGIN:VEVENT
DTSTART;TZID=America/Detroit:20260513T130000
DTEND;TZID=America/Detroit:20260513T153000
DTSTAMP:20260425T190231
CREATED:20251223T191454Z
LAST-MODIFIED:20251223T191455Z
UID:21706-1778677200-1778686200@shmlibrary.org
SUMMARY:Hooked on Yarn
DESCRIPTION:This is FREE to the public. Join us at 1pm.
URL:https://shmlibrary.org/event/hooked-on-yarn-9/
LOCATION:South Haven Memorial Library\, 314 Broadway St.\, South Haven\, Michigan\, 49090\, United States
ATTACH;FMTTYPE=image/jpeg:https://shmlibrary.org/wp-content/uploads/hooked-on-yarn-jan-jun-2026-flyer.jpg
END:VEVENT
BEGIN:VEVENT
DTSTART;TZID=America/Detroit:20260513T130000
DTEND;TZID=America/Detroit:20260513T160000
DTSTAMP:20260425T190231
CREATED:20260420T154640Z
LAST-MODIFIED:20260420T154640Z
UID:22627-1778677200-1778688000@shmlibrary.org
SUMMARY:Bridge Card Game 2026
DESCRIPTION:You are invited for a FREE fun afternoon of Bridge! This event is open to the public and beginners are welcomed. Join us at 1pm every Tuesday and Wednesday (duplicate) at the South Haven Memorial Library community room.
URL:https://shmlibrary.org/event/bridge-card-game-2026-4/
LOCATION:South Haven Memorial Library\, 314 Broadway St.\, South Haven\, Michigan\, 49090\, United States
CATEGORIES:Adult Programs
ATTACH;FMTTYPE=image/jpeg:https://shmlibrary.org/wp-content/uploads/bridge-card-game-flyer-2026.jpg
END:VEVENT
BEGIN:VEVENT
DTSTART;TZID=America/Detroit:20260515T110000
DTEND;TZID=America/Detroit:20260515T120000
DTSTAMP:20260425T190231
CREATED:20251010T134035Z
LAST-MODIFIED:20251010T144112Z
UID:20645-1778842800-1778846400@shmlibrary.org
SUMMARY:Messy Play Fridays
DESCRIPTION:
URL:https://shmlibrary.org/event/messy-play-fridays-8/
LOCATION:South Haven Memorial Library\, 314 Broadway St.\, South Haven\, Michigan\, 49090\, United States
CATEGORIES:Children Programs
ATTACH;FMTTYPE=image/jpeg:https://shmlibrary.org/wp-content/uploads/messy-play-25-26.jpg
ORGANIZER;CN="South Haven Memorial Library":MAILTO:shml@shmlibrary.org
END:VEVENT
BEGIN:VEVENT
DTSTART;TZID=America/Detroit:20260516T110000
DTEND;TZID=America/Detroit:20260516T120000
DTSTAMP:20260425T190231
CREATED:20251010T134541Z
LAST-MODIFIED:20260219T164639Z
UID:20659-1778929200-1778932800@shmlibrary.org
SUMMARY:STEM Saturdays
DESCRIPTION:FREE event every 3rd Saturday of each month at 11am. Engaging STEM activities include hands-on projects. These activities foster critical thinking through simple\, often household-based\, experiments in science\, technology\, engineering\, and math.
URL:https://shmlibrary.org/event/stem-saturdays-8/
LOCATION:Michigan
CATEGORIES:Children Programs
ATTACH;FMTTYPE=image/jpeg:https://shmlibrary.org/wp-content/uploads/stem-saturdays-25-26-1.jpg
END:VEVENT
BEGIN:VEVENT
DTSTART;TZID=America/Detroit:20260518T130000
DTEND;TZID=America/Detroit:20260518T140000
DTSTAMP:20260425T190231
CREATED:20251216T183616Z
LAST-MODIFIED:20251216T183616Z
UID:21652-1779109200-1779112800@shmlibrary.org
SUMMARY:Community BINGO 2026
DESCRIPTION:Join us for a fun hour of Community BINGO! Ring in the New Year with BINGO and try your luck every Monday. January 5\, 2026\, through May 18\, 2026\, from 1pm – 2pm. Bring a prize under $5.00.
URL:https://shmlibrary.org/event/community-bingo-2026-18/
LOCATION:South Haven Memorial Library\, 314 Broadway St.\, South Haven\, Michigan\, 49090\, United States
ATTACH;FMTTYPE=image/jpeg:https://shmlibrary.org/wp-content/uploads/community-bingo-2026-flyer.jpg
ORGANIZER;CN="South Haven Memorial Library":MAILTO:shml@shmlibrary.org
END:VEVENT
BEGIN:VEVENT
DTSTART;TZID=America/Detroit:20260519T110000
DTEND;TZID=America/Detroit:20260519T120000
DTSTAMP:20260425T190231
CREATED:20251010T140937Z
LAST-MODIFIED:20251010T140938Z
UID:20716-1779188400-1779192000@shmlibrary.org
SUMMARY:Story Time Tuesdays
DESCRIPTION:
URL:https://shmlibrary.org/event/story-time-tuesdays-35/
LOCATION:South Haven Memorial Library\, 314 Broadway St.\, South Haven\, Michigan\, 49090\, United States
CATEGORIES:Children Programs
ATTACH;FMTTYPE=image/jpeg:https://shmlibrary.org/wp-content/uploads/2026-story-time-1-1.jpg
ORGANIZER;CN="South Haven Memorial Library":MAILTO:shml@shmlibrary.org
END:VEVENT
BEGIN:VEVENT
DTSTART;TZID=America/Detroit:20260519T130000
DTEND;TZID=America/Detroit:20260519T160000
DTSTAMP:20260425T190231
CREATED:20260420T154806Z
LAST-MODIFIED:20260420T154806Z
UID:22630-1779195600-1779206400@shmlibrary.org
SUMMARY:Bridge Card Game 2026
DESCRIPTION:You are invited for a FREE fun afternoon of Bridge! This event is open to the public and beginners are welcomed. Join us at 1pm every Tuesday and Wednesday (duplicate) at the South Haven Memorial Library community room.
URL:https://shmlibrary.org/event/bridge-card-game-2026-5/
LOCATION:South Haven Memorial Library\, 314 Broadway St.\, South Haven\, Michigan\, 49090\, United States
CATEGORIES:Adult Programs
ATTACH;FMTTYPE=image/jpeg:https://shmlibrary.org/wp-content/uploads/bridge-card-game-flyer-2026.jpg
END:VEVENT
BEGIN:VEVENT
DTSTART;TZID=America/Detroit:20260520T130000
DTEND;TZID=America/Detroit:20260520T153000
DTSTAMP:20260425T190231
CREATED:20251223T191528Z
LAST-MODIFIED:20251223T191529Z
UID:21708-1779282000-1779291000@shmlibrary.org
SUMMARY:Hooked on Yarn
DESCRIPTION:This is FREE to the public. Join us at 1pm.
URL:https://shmlibrary.org/event/hooked-on-yarn-10/
LOCATION:South Haven Memorial Library\, 314 Broadway St.\, South Haven\, Michigan\, 49090\, United States
ATTACH;FMTTYPE=image/jpeg:https://shmlibrary.org/wp-content/uploads/hooked-on-yarn-jan-jun-2026-flyer.jpg
END:VEVENT
BEGIN:VEVENT
DTSTART;TZID=America/Detroit:20260520T130000
DTEND;TZID=America/Detroit:20260520T160000
DTSTAMP:20260425T190231
CREATED:20260420T154843Z
LAST-MODIFIED:20260420T154843Z
UID:22631-1779282000-1779292800@shmlibrary.org
SUMMARY:Bridge Card Game 2026
DESCRIPTION:You are invited for a FREE fun afternoon of Bridge! This event is open to the public and beginners are welcomed. Join us at 1pm every Tuesday and Wednesday (duplicate) at the South Haven Memorial Library community room.
URL:https://shmlibrary.org/event/bridge-card-game-2026-6/
LOCATION:South Haven Memorial Library\, 314 Broadway St.\, South Haven\, Michigan\, 49090\, United States
CATEGORIES:Adult Programs
ATTACH;FMTTYPE=image/jpeg:https://shmlibrary.org/wp-content/uploads/bridge-card-game-flyer-2026.jpg
END:VEVENT
BEGIN:VEVENT
DTSTART;TZID=America/Detroit:20260526T110000
DTEND;TZID=America/Detroit:20260526T120000
DTSTAMP:20260425T190231
CREATED:20251010T140957Z
LAST-MODIFIED:20251010T140957Z
UID:20718-1779793200-1779796800@shmlibrary.org
SUMMARY:Story Time Tuesdays
DESCRIPTION:
URL:https://shmlibrary.org/event/story-time-tuesdays-36/
LOCATION:South Haven Memorial Library\, 314 Broadway St.\, South Haven\, Michigan\, 49090\, United States
CATEGORIES:Children Programs
ATTACH;FMTTYPE=image/jpeg:https://shmlibrary.org/wp-content/uploads/2026-story-time-1-1.jpg
ORGANIZER;CN="South Haven Memorial Library":MAILTO:shml@shmlibrary.org
END:VEVENT
BEGIN:VEVENT
DTSTART;TZID=America/Detroit:20260526T130000
DTEND;TZID=America/Detroit:20260526T160000
DTSTAMP:20260425T190231
CREATED:20260420T154907Z
LAST-MODIFIED:20260420T154908Z
UID:22632-1779800400-1779811200@shmlibrary.org
SUMMARY:Bridge Card Game 2026
DESCRIPTION:You are invited for a FREE fun afternoon of Bridge! This event is open to the public and beginners are welcomed. Join us at 1pm every Tuesday and Wednesday (duplicate) at the South Haven Memorial Library community room.
URL:https://shmlibrary.org/event/bridge-card-game-2026-7/
LOCATION:South Haven Memorial Library\, 314 Broadway St.\, South Haven\, Michigan\, 49090\, United States
CATEGORIES:Adult Programs
ATTACH;FMTTYPE=image/jpeg:https://shmlibrary.org/wp-content/uploads/bridge-card-game-flyer-2026.jpg
END:VEVENT
BEGIN:VEVENT
DTSTART;TZID=America/Detroit:20260527T130000
DTEND;TZID=America/Detroit:20260527T160000
DTSTAMP:20260425T190231
CREATED:20260420T154924Z
LAST-MODIFIED:20260420T154925Z
UID:22633-1779886800-1779897600@shmlibrary.org
SUMMARY:Bridge Card Game 2026
DESCRIPTION:You are invited for a FREE fun afternoon of Bridge! This event is open to the public and beginners are welcomed. Join us at 1pm every Tuesday and Wednesday (duplicate) at the South Haven Memorial Library community room.
URL:https://shmlibrary.org/event/bridge-card-game-2026-8/
LOCATION:South Haven Memorial Library\, 314 Broadway St.\, South Haven\, Michigan\, 49090\, United States
CATEGORIES:Adult Programs
ATTACH;FMTTYPE=image/jpeg:https://shmlibrary.org/wp-content/uploads/bridge-card-game-flyer-2026.jpg
END:VEVENT
BEGIN:VEVENT
DTSTART;TZID=America/Detroit:20260527T140000
DTEND;TZID=America/Detroit:20260527T150000
DTSTAMP:20260425T190231
CREATED:20251124T183422Z
LAST-MODIFIED:20251124T183457Z
UID:21364-1779890400-1779894000@shmlibrary.org
SUMMARY:2026 Friends of SHML Meetings
DESCRIPTION:The Friends of the South Haven Memorial Library (SHML) is an independent\, nonprofit organization dedicated to promoting the library as an essential institution in our community. It is a group of volunteers that provide financial support to the library and promote interest in programs and materials that are interesting and useful to all library patrons and the South Haven community.  \n\n\n\nMeeting are held in the community room and open to the public. \n\n\n\nIf you would like to become a member of the Friends of the Library\, please contact Paul Buchbinder or you can fill out a membership application. Click here for a Friends membership application.
URL:https://shmlibrary.org/event/2026-friends-of-shml-meetings-2/
LOCATION:South Haven Memorial Library\, 314 Broadway St.\, South Haven\, Michigan\, 49090\, United States
CATEGORIES:Featured Programs
ATTACH;FMTTYPE=image/jpeg:https://shmlibrary.org/wp-content/uploads/friends-meetings-for-2026-flyer.jpg
ORGANIZER;CN="Paul Buchbinder":MAILTO:pbptvmedia@gmail.com
END:VEVENT
END:VCALENDAR